View In:
ArcGIS JavaScript
ArcGIS Online Map Viewer
ArcGIS Earth
ArcGIS Pro
Service Description: Topographic map of the Town of The Blue Mountains. Information shown on this mp is compiled from numerous sources and may not be complete or accurate. The Blue Mountains is not responsible for any errors, omissions or deficiencies in this drawing. This map is for reference purposes only. No part of this supplied data may be reproduced or transmitted to others in any way without the written permission of the Corporation of The Town of The Blue Mountains.
Map Name: Layers
Legend
All Layers and Tables
Dynamic Legend
Dynamic All Layers
Layers:
Description: Information shown on these drawings is compiled from numerous sources and may not be complete or accurate. The Blue Mountains is not responsible for any errors, omissions or deficiencies in this drawing. This map is for reference purposes only. No part of this supplied data may be reproduced or transmitted to others in any way without the written permission of the Corporation of The Town of The Blue Mountains.
Service Item Id: 813240ca243443d093120b6eb1778421
Copyright Text: © Town of The Blue Mountains
Spatial Reference:
102100
(3857)
LatestVCSWkid(0)
Single Fused Map Cache: true
Tile Info:
- Height: 256.0
- Width: 256.0
- DPI: 96.0
-
Levels of Detail: 24
-
Level ID: 0
[ Start Tile, End Tile ]
- Resolution: 156543.03392800014
- Scale: 5.91657527591555E8
-
Level ID: 1
[ Start Tile, End Tile ]
- Resolution: 78271.51696399994
- Scale: 2.95828763795777E8
-
Level ID: 2
[ Start Tile, End Tile ]
- Resolution: 39135.75848200009
- Scale: 1.47914381897889E8
-
Level ID: 3
[ Start Tile, End Tile ]
- Resolution: 19567.87924099992
- Scale: 7.3957190948944E7
-
Level ID: 4
[ Start Tile, End Tile ]
- Resolution: 9783.93962049996
- Scale: 3.6978595474472E7
-
Level ID: 5
[ Start Tile, End Tile ]
- Resolution: 4891.96981024998
- Scale: 1.8489297737236E7
- Format: MIXED
- Compression Quality: 75.0
- Origin: X: -2.0037508342787E7
Y: 2.0037508342787E7
- Spatial Reference: 102100
(3857)
LatestVCSWkid(0)
Storage Info:
- Storage Format: esriMapCacheStorageModeCompactV2
- Packet Size: 128
Initial Extent:
XMin: -8971937.16432214
YMin: 5540033.259327715
XMax: -8934263.708159877
YMax: 5554550.454019085
Spatial Reference: 102100
(3857)
LatestVCSWkid(0)
Full Extent:
XMin: -8963116.743616778
YMin: 5523122.271959407
XMax: -8934947.889123423
YMax: 5558183.95088419
Spatial Reference: 102100
(3857)
LatestVCSWkid(0)
Units: esriMeters
Supported Image Format Types: PNG32,PNG24,PNG,JPG,DIB,TIFF,EMF,PS,PDF,GIF,SVG,SVGZ,BMP
Document Info:
Title:
Author:
Comments: Topographic map of the Town of The Blue Mountains. Information shown on this mp is compiled from numerous sources and may not be complete or accurate. The Blue Mountains is not responsible for any errors, omissions or deficiencies in this drawing. This map is for reference purposes only. No part of this supplied data may be reproduced or transmitted to others in any way without the written permission of the Corporation of The Town of The Blue Mountains.
Subject: Topographic map of the Town of The Blue Mountains
Category:
Keywords: Town of The Blue Mountains
AntialiasingMode: None
TextAntialiasingMode: Force
Supports Dynamic Layers: true
Resampling: false
MaxRecordCount: 1000
MaxSelectionCount: 2000
MaxImageHeight: 4096
MaxImageWidth: 4096
Supported Query Formats: JSON, geoJSON, PBF
Supports Query Data Elements: true
Min Scale: 288895.277144
Max Scale: 564.248588
Min LOD: 11
Max LOD: 20
Supports Datum Transformation: true
Child Resources:
Info
Dynamic Layer
Supported Operations:
Export Map
Identify
QueryLegends
QueryDomains
Find
Return Updates
Generate KML